BEGIN:VCALENDAR
VERSION:2.0
PRODID:-//Rollstuhlclub St. Gallen - ECPv6.11.2//NONSGML v1.0//EN
CALSCALE:GREGORIAN
METHOD:PUBLISH
X-WR-CALNAME:Rollstuhlclub St. Gallen
X-ORIGINAL-URL:https://www.rc-sg.ch
X-WR-CALDESC:Veranstaltungen für Rollstuhlclub St. Gallen
REFRESH-INTERVAL;VALUE=DURATION:PT1H
X-Robots-Tag:noindex
X-PUBLISHED-TTL:PT1H
BEGIN:VTIMEZONE
TZID:Europe/Zurich
BEGIN:DAYLIGHT
TZOFFSETFROM:+0100
TZOFFSETTO:+0200
TZNAME:CEST
DTSTART:20260329T010000
END:DAYLIGHT
BEGIN:STANDARD
TZOFFSETFROM:+0200
TZOFFSETTO:+0100
TZNAME:CET
DTSTART:20261025T010000
END:STANDARD
END:VTIMEZONE
BEGIN:VEVENT
DTSTART;TZID=Europe/Zurich:20260425T140000
DTEND;TZID=Europe/Zurich:20260425T160000
DTSTAMP:20260425T002710
CREATED:20260413T165041Z
LAST-MODIFIED:20260413T165339Z
UID:10000033-1777125600-1777132800@www.rc-sg.ch
SUMMARY:Basketball Playoff-Final Spiel 2
DESCRIPTION:Anpfiff: 14:00Uhr Rolling Rebels RCSG vs. Pilatus Dragons \n 
URL:https://www.rc-sg.ch/veranstaltung/basketball-meisterschaft-4-2-3-3-2/
LOCATION:Ebnet-Saal\, Industriestrasse 2\, Bronschhofen\, St. Gallen\, 9552\, Switzerland
CATEGORIES:Basketball
END:VEVENT
BEGIN:VEVENT
DTSTART;TZID=Europe/Zurich:20260502T190000
DTEND;TZID=Europe/Zurich:20260502T210000
DTSTAMP:20260425T002710
CREATED:20260413T165255Z
LAST-MODIFIED:20260413T165255Z
UID:10000034-1777748400-1777755600@www.rc-sg.ch
SUMMARY:Basketball Playoff-Final (evtl. Spiel 3)
DESCRIPTION:Anpfiff: 19:00Uhr Pilatus Dragons vs. Rolling Rebels RCSG \n 
URL:https://www.rc-sg.ch/veranstaltung/basketball-meisterschaft-4-2-3-3-3/
LOCATION:SPZ Nottwil\, Guido A. Zäch Strasse\, Nottwil\, Luzern\, 6207\, Switzerland
CATEGORIES:Basketball
END:VEVENT
BEGIN:VEVENT
DTSTART;TZID=Europe/Zurich:20260621T090000
DTEND;TZID=Europe/Zurich:20260621T110000
DTSTAMP:20260425T002710
CREATED:20260301T133041Z
LAST-MODIFIED:20260301T133442Z
UID:10000030-1782032400-1782039600@www.rc-sg.ch
SUMMARY:Brunch im Walter Zoo mit anschliessendem Zoobesuch
DESCRIPTION:Wir freuen uns\, dir bereits jetzt anzukündigen\, dass wir am 21. Juni im Walter Zoo in Gossau zusammen einen Brunch geniessen werden. \nDas Anmeldefenster wird für euch rechtzeitig geöffnet. \n 
URL:https://www.rc-sg.ch/veranstaltung/brunch-im-walter-zoo-mit-anschliessendem-zoobesuch/
LOCATION:Walter Zoo Gossau SG\, Neuchlen 200\, Gossau\, St. Gallen\, 9200
CATEGORIES:Kultur und Freizeit
END:VEVENT
BEGIN:VEVENT
DTSTART;VALUE=DATE:20260905
DTEND;VALUE=DATE:20260907
DTSTAMP:20260425T002710
CREATED:20260120T194334Z
LAST-MODIFIED:20260120T194334Z
UID:10000026-1788566400-1788739199@www.rc-sg.ch
SUMMARY:Clubausflug
DESCRIPTION:
URL:https://www.rc-sg.ch/veranstaltung/clubausflug/
LOCATION:Luzern
CATEGORIES:Kultur und Freizeit
END:VEVENT
END:VCALENDAR